BEGIN:VCALENDAR
VERSION:2.0
PRODID:-//Episcopia Daciei Felix - ECPv6.14.2//NONSGML v1.0//EN
CALSCALE:GREGORIAN
METHOD:PUBLISH
X-ORIGINAL-URL:https://episcopiadaciafelix.ro
X-WR-CALDESC:Evenimente pentru Episcopia Daciei Felix
REFRESH-INTERVAL;VALUE=DURATION:PT1H
X-Robots-Tag:noindex
X-PUBLISHED-TTL:PT1H
BEGIN:VTIMEZONE
TZID:Europe/Moscow
BEGIN:STANDARD
TZOFFSETFROM:+0300
TZOFFSETTO:+0300
TZNAME:MSK
DTSTART:20240101T000000
END:STANDARD
END:VTIMEZONE
BEGIN:VTIMEZONE
TZID:UTC
BEGIN:STANDARD
TZOFFSETFROM:+0000
TZOFFSETTO:+0000
TZNAME:UTC
DTSTART:20240101T000000
END:STANDARD
END:VTIMEZONE
BEGIN:VEVENT
DTSTART;VALUE=DATE:20240728
DTEND;VALUE=DATE:20240729
DTSTAMP:20260420T000837
CREATED:20240723T070656Z
LAST-MODIFIED:20240723T070741Z
UID:8048-1722124800-1722211199@episcopiadaciafelix.ro
SUMMARY:PREASFINȚITUL PĂRINTE IERONIM\, EPISCOPUL DACIEI FELIX\, VA SLUJI LA MĂNĂSTIREA VORONEȚ\, ARHIEPISCOPIA SUCEVEI ȘI RĂDĂUȚILOR
DESCRIPTION:
URL:https://episcopiadaciafelix.ro/event/preasfintitul-parinte-ieronim-episcopul-daciei-felix-va-sluji-la-manastirea-voronet-arhiepiscopia-sucevei-si-radautilor/
LOCATION:Voroneț\, VORONEȚ\, România
CATEGORIES:Agenda Ierarhului,General
END:VEVENT
BEGIN:VEVENT
DTSTART;VALUE=DATE:20240720
DTEND;VALUE=DATE:20240721
DTSTAMP:20260420T000837
CREATED:20240714T175523Z
LAST-MODIFIED:20240714T175628Z
UID:7997-1721433600-1721519999@episcopiadaciafelix.ro
SUMMARY:PREASFINȚITUL PĂRINTE IERONIM\, EPISCOPUL DACIEI FELIX\, VA SLUJI LA PAROHIA STĂNIȚA\, ARHIEPISCOPIA ROMANULUI ȘI BACĂULUI.
DESCRIPTION:
URL:https://episcopiadaciafelix.ro/event/preasfintitul-parinte-ieronim-episcopul-daciei-felix-va-sluji-la-parohia-stanita-arhiepiscopia-romanului-si-bacaului/
LOCATION:STĂNIȚA\, Roman
CATEGORIES:Agenda Ierarhului
END:VEVENT
BEGIN:VEVENT
DTSTART;VALUE=DATE:20240714
DTEND;VALUE=DATE:20240715
DTSTAMP:20260420T000837
CREATED:20240704T204006Z
LAST-MODIFIED:20240704T204006Z
UID:7898-1720915200-1721001599@episcopiadaciafelix.ro
SUMMARY:Preasfințitul Părinte Ieornim\, Episcopul Daciei Felix\, va sluji la Catedrala Mitropolitană din Silistra.
DESCRIPTION:
URL:https://episcopiadaciafelix.ro/event/preasfintitul-parinte-ieornim-episcopul-daciei-felix-va-sluji-la-catedrala-mitropolitana-din-silistra/
LOCATION:Silistra\, Silistra\, Bulgaria
CATEGORIES:Agenda Ierarhului,General
END:VEVENT
BEGIN:VEVENT
DTSTART;VALUE=DATE:20240713
DTEND;VALUE=DATE:20240714
DTSTAMP:20260420T000837
CREATED:20240704T203818Z
LAST-MODIFIED:20240704T203818Z
UID:7895-1720828800-1720915199@episcopiadaciafelix.ro
SUMMARY:Preasfințitul Părinte Ieronim\, Episcopul Daciei Felix\, va sluji la Catedrala Patriarhală.
DESCRIPTION:
URL:https://episcopiadaciafelix.ro/event/preasfintitul-parinte-ieronim-episcopul-daciei-felix-va-sluji-la-catedrala-patriarhala/
LOCATION:București\, București\, România
CATEGORIES:Agenda Ierarhului,General
END:VEVENT
BEGIN:VEVENT
DTSTART;VALUE=DATE:20240707
DTEND;VALUE=DATE:20240708
DTSTAMP:20260420T000837
CREATED:20240704T203540Z
LAST-MODIFIED:20240704T203642Z
UID:7891-1720310400-1720396799@episcopiadaciafelix.ro
SUMMARY:Preasfințitul Părinte Ieronim\, Episcopul Daciei Felix\, va sluji la Mănăstirea Ghighiu\, Județul Prahova.
DESCRIPTION:
URL:https://episcopiadaciafelix.ro/event/preasfintitul-parinte-ieronim-episcopul-daciei-felix-va-sluji-la-manastirea-ghighiu-judetul-prahova/
LOCATION:Ploiești\, Ploiești
CATEGORIES:Agenda Ierarhului,General
END:VEVENT
BEGIN:VEVENT
DTSTART;TZID=Europe/Moscow:20240630T100000
DTEND;TZID=Europe/Moscow:20240630T130000
DTSTAMP:20260420T000837
CREATED:20240625T090123Z
LAST-MODIFIED:20240625T090123Z
UID:7689-1719741600-1719752400@episcopiadaciafelix.ro
SUMMARY:Preasfințitul Părinte Ieronim\, Episcopul Daciei Felix\, va sluji în parohia cu hramul „Sfinții Împărați Constantin și Elena” din localitatea Ofcea\, Protopopiatul Panciova\, Republica Serbia.
DESCRIPTION:
URL:https://episcopiadaciafelix.ro/event/preasfintitul-parinte-ieronim-episcopul-daciei-felix-va-sluji-in-parohia-cu-hramul-sfintii-imparati-constantin-si-elena-din-localitatea-ofcea-protopopiatul-panciova-republica-ser/
LOCATION:Ofcea\, Ofcea\, Serbia
CATEGORIES:Agenda Ierarhului,General
END:VEVENT
BEGIN:VEVENT
DTSTART;TZID=Europe/Moscow:20240629T100000
DTEND;TZID=Europe/Moscow:20240629T130000
DTSTAMP:20260420T000837
CREATED:20240625T085547Z
LAST-MODIFIED:20240625T090222Z
UID:7690-1719655200-1719666000@episcopiadaciafelix.ro
SUMMARY:Preasfințitul Părinte Ieronim\, Episcopul Daciei Felix\, va sluji în parohia cu hramul „Pogorârea Sfântului Duh” din localitatea Deliblata\, Protopopiatul Cuvin (Kovin)\, Republica Serbia.
DESCRIPTION:
URL:https://episcopiadaciafelix.ro/event/preasfintitul-parinte-ieronim-episcopul-daciei-felix-va-sluji-in-parohia-cu-hramul-pogorarea-sfantului-duh-din-localitatea-deliblata-protopopiatul-cuvin-kovin-republica-serbia/
LOCATION:Deliblato\, Deliblato\, Serbia
CATEGORIES:Agenda Ierarhului,General
END:VEVENT
BEGIN:VEVENT
DTSTART;VALUE=DATE:20240624
DTEND;VALUE=DATE:20240625
DTSTAMP:20260420T000837
CREATED:20240618T094208Z
LAST-MODIFIED:20240618T094208Z
UID:7457-1719187200-1719273599@episcopiadaciafelix.ro
SUMMARY:Preasfințitul Părinte Ieronim\, Episcopul Daciei Felix\, va oficia slujba de resfințire a Bisericii cu hramul “Sfânta Treime” din localitatea Maramorac\, protopopiatul Kovin\, Republica Serbia.
DESCRIPTION:
URL:https://episcopiadaciafelix.ro/event/preasfintitul-parinte-ieronim-episcopul-daciei-felix-va-oficia-slujba-de-resfintire-a-bisericii-cu-hramul-sfanta-treime-din-localitatea-maramorac-protopopiatul-kovin-republica-se/
LOCATION:Localitatea Maramorac\, protopopiatul Kovin\, Republica Serbia\, Maramorac\, Serbia
CATEGORIES:Agenda Ierarhului
END:VEVENT
BEGIN:VEVENT
DTSTART;VALUE=DATE:20240623
DTEND;VALUE=DATE:20240624
DTSTAMP:20260420T000837
CREATED:20240618T093907Z
LAST-MODIFIED:20240618T094334Z
UID:7452-1719100800-1719187199@episcopiadaciafelix.ro
SUMMARY:Preasfințitul Părinte Ieronim\, Episcopul Daciei Felix\, va sluji la Parohia “Pogorârea Sfântului Duh” din localitatea Biserica Albă\, protopopiatul Biserica Albă\, Republica Serbia.
DESCRIPTION:
URL:https://episcopiadaciafelix.ro/event/preasfintitul-parinte-ieronim-episcopul-daciei-felix-va-sluji-la-parohia-pogorarea-sfantului-duh-din-localitatea-biserica-alba-protopopiatul-biserica-alba-republica-serbia/
LOCATION:Localitatea Maramorac\, protopopiatul Kovin\, Republica Serbia\, Maramorac\, Serbia
CATEGORIES:Agenda Ierarhului
END:VEVENT
BEGIN:VEVENT
DTSTART;TZID=Europe/Moscow:20240613T180000
DTEND;TZID=Europe/Moscow:20240613T200000
DTSTAMP:20260420T000837
CREATED:20240611T114459Z
LAST-MODIFIED:20240611T115014Z
UID:7101-1718301600-1718308800@episcopiadaciafelix.ro
SUMMARY:Concert de cântări Bisericești
DESCRIPTION:
URL:https://episcopiadaciafelix.ro/event/concert-de-cantari-bisericesti/
LOCATION:ZARKA ZRENJANINA 60\, 26300 VRSAC\, SERBIA\, ZARKA ZRENJANINA 60\, 26300 VRSAC\, SERBIA\, Serbia
END:VEVENT
BEGIN:VEVENT
DTSTART;TZID=Europe/Moscow:20240613T100000
DTEND;TZID=Europe/Moscow:20240613T130000
DTSTAMP:20260420T000837
CREATED:20240611T114403Z
LAST-MODIFIED:20240611T114703Z
UID:7099-1718272800-1718283600@episcopiadaciafelix.ro
SUMMARY:Sfânta Liturghie Arhierească
DESCRIPTION:
URL:https://episcopiadaciafelix.ro/event/sfanta-liturghie-arhiereasca/
LOCATION:ZARKA ZRENJANINA 60\, 26300 VRSAC\, SERBIA\, ZARKA ZRENJANINA 60\, 26300 VRSAC\, SERBIA\, Serbia
END:VEVENT
BEGIN:VEVENT
DTSTART;TZID=Europe/Moscow:20240612T170000
DTEND;TZID=Europe/Moscow:20240612T210000
DTSTAMP:20260420T000837
CREATED:20240611T114302Z
LAST-MODIFIED:20240611T115044Z
UID:7097-1718211600-1718226000@episcopiadaciafelix.ro
SUMMARY:Priveghere cu arhiereu în cinstea slăvitului praznic al Înălțării Domnului
DESCRIPTION:
URL:https://episcopiadaciafelix.ro/event/priveghere-cu-arhiereu-in-cinstea-slavitului-praznic-al-inaltarii-domnului/
LOCATION:ZARKA ZRENJANINA 60\, 26300 VRSAC\, SERBIA\, ZARKA ZRENJANINA 60\, 26300 VRSAC\, SERBIA\, Serbia
END:VEVENT
BEGIN:VEVENT
DTSTART;TZID=Europe/Moscow:20240612T160000
DTEND;TZID=Europe/Moscow:20240612T170000
DTSTAMP:20260420T000837
CREATED:20240611T114009Z
LAST-MODIFIED:20240611T114601Z
UID:7093-1718208000-1718211600@episcopiadaciafelix.ro
SUMMARY:Primirea Moaștelor Sfintilor Sila\, Paisie și Natan de la Mănăstirea Sihăstria Putnei
DESCRIPTION:
URL:https://episcopiadaciafelix.ro/event/primirea-moastelor-sfintilor-sila-paisie-si-natan-de-la-manastirea-sihastria-putnei/
LOCATION:ZARKA ZRENJANINA 60\, 26300 VRSAC\, SERBIA\, ZARKA ZRENJANINA 60\, 26300 VRSAC\, SERBIA\, Serbia
END:VEVENT
BEGIN:VEVENT
DTSTART;VALUE=DATE:20240612
DTEND;VALUE=DATE:20240614
DTSTAMP:20260420T000837
CREATED:20180816T090220Z
LAST-MODIFIED:20240610T195355Z
UID:5993-1718150400-1718323199@episcopiadaciafelix.ro
SUMMARY:Hramul Catedralei Episcopale “Înălțarea Domnului”
DESCRIPTION:Aniversarea unui deceniu de la hirotonia întru Arhiereu a Preasfințitului Ieronim\, Episcopul Daciei Felix. \nData de 12 Iunie 2024:\n\nOra 16:00 Primirea Sfintelor moaste ale Sfintilor Sila\, Paisie si Natan de la Manastirea Sihastria Putnei\nOra 17:00 – Rânduiala Privegherii săvârșită de arhiere\n\nData de 13 Iunie 2024:\n\nOra 09:30 Sfânta Liturghie arhierească;\nOra 18:00 Concert de cântări bisericeşti:\nCorul Academic Byzantion” laşi\nCorul Ethos” al Episcopiei Caransebeşului\nCorul Parohiei Micalaca Veche II – Arad
URL:https://episcopiadaciafelix.ro/event/hramul-catedralei-episcopale/
LOCATION:ZARKA ZRENJANINA 60\, 26300 VRSAC\, SERBIA\, ZARKA ZRENJANINA 60\, 26300 VRSAC\, SERBIA\, Serbia
ATTACH;FMTTYPE=image/jpeg:https://episcopiadaciafelix.ro/wp-content/uploads/2018/08/Biserica33.jpg
END:VEVENT
END:VCALENDAR