BEGIN:VCALENDAR
VERSION:2.0
PRODID:-//Episcopia Daciei Felix - ECPv6.14.2//NONSGML v1.0//EN
CALSCALE:GREGORIAN
METHOD:PUBLISH
X-ORIGINAL-URL:https://episcopiadaciafelix.ro
X-WR-CALDESC:Evenimente pentru Episcopia Daciei Felix
REFRESH-INTERVAL;VALUE=DURATION:PT1H
X-Robots-Tag:noindex
X-PUBLISHED-TTL:PT1H
BEGIN:VTIMEZONE
TZID:Europe/Moscow
BEGIN:STANDARD
TZOFFSETFROM:+0300
TZOFFSETTO:+0300
TZNAME:MSK
DTSTART:20240101T000000
END:STANDARD
END:VTIMEZONE
BEGIN:VTIMEZONE
TZID:UTC
BEGIN:STANDARD
TZOFFSETFROM:+0000
TZOFFSETTO:+0000
TZNAME:UTC
DTSTART:20240101T000000
END:STANDARD
END:VTIMEZONE
BEGIN:VEVENT
DTSTART;TZID=Europe/Moscow:20240613T100000
DTEND;TZID=Europe/Moscow:20240613T130000
DTSTAMP:20260420T015311
CREATED:20240611T114403Z
LAST-MODIFIED:20240611T114703Z
UID:7099-1718272800-1718283600@episcopiadaciafelix.ro
SUMMARY:Sfânta Liturghie Arhierească
DESCRIPTION:
URL:https://episcopiadaciafelix.ro/event/sfanta-liturghie-arhiereasca/
LOCATION:ZARKA ZRENJANINA 60\, 26300 VRSAC\, SERBIA\, ZARKA ZRENJANINA 60\, 26300 VRSAC\, SERBIA\, Serbia
END:VEVENT
BEGIN:VEVENT
DTSTART;TZID=Europe/Moscow:20240612T170000
DTEND;TZID=Europe/Moscow:20240612T210000
DTSTAMP:20260420T015311
CREATED:20240611T114302Z
LAST-MODIFIED:20240611T115044Z
UID:7097-1718211600-1718226000@episcopiadaciafelix.ro
SUMMARY:Priveghere cu arhiereu în cinstea slăvitului praznic al Înălțării Domnului
DESCRIPTION:
URL:https://episcopiadaciafelix.ro/event/priveghere-cu-arhiereu-in-cinstea-slavitului-praznic-al-inaltarii-domnului/
LOCATION:ZARKA ZRENJANINA 60\, 26300 VRSAC\, SERBIA\, ZARKA ZRENJANINA 60\, 26300 VRSAC\, SERBIA\, Serbia
END:VEVENT
BEGIN:VEVENT
DTSTART;TZID=Europe/Moscow:20240612T160000
DTEND;TZID=Europe/Moscow:20240612T170000
DTSTAMP:20260420T015311
CREATED:20240611T114009Z
LAST-MODIFIED:20240611T114601Z
UID:7093-1718208000-1718211600@episcopiadaciafelix.ro
SUMMARY:Primirea Moaștelor Sfintilor Sila\, Paisie și Natan de la Mănăstirea Sihăstria Putnei
DESCRIPTION:
URL:https://episcopiadaciafelix.ro/event/primirea-moastelor-sfintilor-sila-paisie-si-natan-de-la-manastirea-sihastria-putnei/
LOCATION:ZARKA ZRENJANINA 60\, 26300 VRSAC\, SERBIA\, ZARKA ZRENJANINA 60\, 26300 VRSAC\, SERBIA\, Serbia
END:VEVENT
BEGIN:VEVENT
DTSTART;VALUE=DATE:20240612
DTEND;VALUE=DATE:20240614
DTSTAMP:20260420T015311
CREATED:20180816T090220Z
LAST-MODIFIED:20240610T195355Z
UID:5993-1718150400-1718323199@episcopiadaciafelix.ro
SUMMARY:Hramul Catedralei Episcopale “Înălțarea Domnului”
DESCRIPTION:Aniversarea unui deceniu de la hirotonia întru Arhiereu a Preasfințitului Ieronim\, Episcopul Daciei Felix. \nData de 12 Iunie 2024:\n\nOra 16:00 Primirea Sfintelor moaste ale Sfintilor Sila\, Paisie si Natan de la Manastirea Sihastria Putnei\nOra 17:00 – Rânduiala Privegherii săvârșită de arhiere\n\nData de 13 Iunie 2024:\n\nOra 09:30 Sfânta Liturghie arhierească;\nOra 18:00 Concert de cântări bisericeşti:\nCorul Academic Byzantion” laşi\nCorul Ethos” al Episcopiei Caransebeşului\nCorul Parohiei Micalaca Veche II – Arad
URL:https://episcopiadaciafelix.ro/event/hramul-catedralei-episcopale/
LOCATION:ZARKA ZRENJANINA 60\, 26300 VRSAC\, SERBIA\, ZARKA ZRENJANINA 60\, 26300 VRSAC\, SERBIA\, Serbia
ATTACH;FMTTYPE=image/jpeg:https://episcopiadaciafelix.ro/wp-content/uploads/2018/08/Biserica33.jpg
END:VEVENT
END:VCALENDAR